BEGIN:VCALENDAR
VERSION:2.0
PRODID:-//Neuscharrel - ECPv6.15.20//NONSGML v1.0//EN
CALSCALE:GREGORIAN
METHOD:PUBLISH
X-ORIGINAL-URL:https://neuscharrel.de
X-WR-CALDESC:Veranstaltungen für Neuscharrel
REFRESH-INTERVAL;VALUE=DURATION:PT1H
X-Robots-Tag:noindex
X-PUBLISHED-TTL:PT1H
BEGIN:VTIMEZONE
TZID:Europe/Berlin
BEGIN:DAYLIGHT
TZOFFSETFROM:+0100
TZOFFSETTO:+0200
TZNAME:CEST
DTSTART:20250330T010000
END:DAYLIGHT
BEGIN:STANDARD
TZOFFSETFROM:+0200
TZOFFSETTO:+0100
TZNAME:CET
DTSTART:20251026T010000
END:STANDARD
BEGIN:DAYLIGHT
TZOFFSETFROM:+0100
TZOFFSETTO:+0200
TZNAME:CEST
DTSTART:20260329T010000
END:DAYLIGHT
BEGIN:STANDARD
TZOFFSETFROM:+0200
TZOFFSETTO:+0100
TZNAME:CET
DTSTART:20261025T010000
END:STANDARD
BEGIN:DAYLIGHT
TZOFFSETFROM:+0100
TZOFFSETTO:+0200
TZNAME:CEST
DTSTART:20270328T010000
END:DAYLIGHT
BEGIN:STANDARD
TZOFFSETFROM:+0200
TZOFFSETTO:+0100
TZNAME:CET
DTSTART:20271031T010000
END:STANDARD
END:VTIMEZONE
BEGIN:VEVENT
DTSTART;VALUE=DATE:20260902
DTEND;VALUE=DATE:20260903
DTSTAMP:20260421T110506
CREATED:20251004T095324Z
LAST-MODIFIED:20251004T095324Z
UID:2744-1788307200-1788393599@neuscharrel.de
SUMMARY:Vereinsmeisterschaft Schützenverein
DESCRIPTION:
URL:https://neuscharrel.de/event/vereinsmeisterschaft-schuetzenverein-2/
END:VEVENT
BEGIN:VEVENT
DTSTART;VALUE=DATE:20260905
DTEND;VALUE=DATE:20260906
DTSTAMP:20260421T110506
CREATED:20251004T095324Z
LAST-MODIFIED:20251004T095324Z
UID:2745-1788566400-1788652799@neuscharrel.de
SUMMARY:Messdiener Aufnahme
DESCRIPTION:
URL:https://neuscharrel.de/event/messdiener-aufnahme-2/
END:VEVENT
BEGIN:VEVENT
DTSTART;VALUE=DATE:20260906
DTEND;VALUE=DATE:20260907
DTSTAMP:20260421T110506
CREATED:20251004T095337Z
LAST-MODIFIED:20251004T095337Z
UID:2746-1788652800-1788739199@neuscharrel.de
SUMMARY:Kreisschützenfest Harkebrügge
DESCRIPTION:
URL:https://neuscharrel.de/event/kreisschuetzenfest-harkebruegge/
END:VEVENT
BEGIN:VEVENT
DTSTART;VALUE=DATE:20260909
DTEND;VALUE=DATE:20260910
DTSTAMP:20260421T110506
CREATED:20251004T095337Z
LAST-MODIFIED:20251004T095337Z
UID:2748-1788912000-1788998399@neuscharrel.de
SUMMARY:Vereinsmeisterschaft Schützenverein
DESCRIPTION:
URL:https://neuscharrel.de/event/vereinsmeisterschaft-schuetzenverein-3/
END:VEVENT
BEGIN:VEVENT
DTSTART;VALUE=DATE:20260909
DTEND;VALUE=DATE:20260910
DTSTAMP:20260421T110506
CREATED:20251004T095337Z
LAST-MODIFIED:20251004T095337Z
UID:2747-1788912000-1788998399@neuscharrel.de
SUMMARY:kfd Veranstaltung
DESCRIPTION:
URL:https://neuscharrel.de/event/kfd-veranstaltung-18/
END:VEVENT
BEGIN:VEVENT
DTSTART;VALUE=DATE:20260912
DTEND;VALUE=DATE:20260913
DTSTAMP:20260421T110506
CREATED:20251004T095338Z
LAST-MODIFIED:20251004T095338Z
UID:2749-1789171200-1789257599@neuscharrel.de
SUMMARY:Kreiskönigsschießen
DESCRIPTION:
URL:https://neuscharrel.de/event/kreiskoenigsschiessen-3/
END:VEVENT
BEGIN:VEVENT
DTSTART;VALUE=DATE:20260913
DTEND;VALUE=DATE:20260914
DTSTAMP:20260421T110506
CREATED:20251004T095338Z
LAST-MODIFIED:20251004T095338Z
UID:2750-1789257600-1789343999@neuscharrel.de
SUMMARY:Kommunalwahl
DESCRIPTION:
URL:https://neuscharrel.de/event/kommunalwahl/
END:VEVENT
BEGIN:VEVENT
DTSTART;VALUE=DATE:20260916
DTEND;VALUE=DATE:20260917
DTSTAMP:20260421T110506
CREATED:20251004T095352Z
LAST-MODIFIED:20251004T095352Z
UID:2751-1789516800-1789603199@neuscharrel.de
SUMMARY:Vereinsmeisterschaft Schützenverein
DESCRIPTION:
URL:https://neuscharrel.de/event/vereinsmeisterschaft-schuetzenverein-4/
END:VEVENT
BEGIN:VEVENT
DTSTART;VALUE=DATE:20260919
DTEND;VALUE=DATE:20260920
DTSTAMP:20260421T110506
CREATED:20251004T095352Z
LAST-MODIFIED:20251004T095352Z
UID:2752-1789776000-1789862399@neuscharrel.de
SUMMARY:Kreis Jugend Wanderpokal Schießen
DESCRIPTION:
URL:https://neuscharrel.de/event/kreis-jugend-wanderpokal-schiessen-3/
END:VEVENT
BEGIN:VEVENT
DTSTART;VALUE=DATE:20260923
DTEND;VALUE=DATE:20260924
DTSTAMP:20260421T110506
CREATED:20251004T095353Z
LAST-MODIFIED:20251004T095353Z
UID:2753-1790121600-1790207999@neuscharrel.de
SUMMARY:Vereinsmeisterschaft Schützenverein
DESCRIPTION:
URL:https://neuscharrel.de/event/vereinsmeisterschaft-schuetzenverein-5/
END:VEVENT
BEGIN:VEVENT
DTSTART;VALUE=DATE:20260924
DTEND;VALUE=DATE:20260925
DTSTAMP:20260421T110506
CREATED:20251004T095353Z
LAST-MODIFIED:20251004T095353Z
UID:2754-1790208000-1790294399@neuscharrel.de
SUMMARY:Versammlung der Vereine
DESCRIPTION:
URL:https://neuscharrel.de/event/versammlung-der-vereine-6/
END:VEVENT
BEGIN:VEVENT
DTSTART;VALUE=DATE:20260930
DTEND;VALUE=DATE:20261001
DTSTAMP:20260421T110506
CREATED:20251004T095353Z
LAST-MODIFIED:20251004T095353Z
UID:2755-1790726400-1790812799@neuscharrel.de
SUMMARY:Begegnung 60 +
DESCRIPTION:
URL:https://neuscharrel.de/event/begegnung-60-8/
END:VEVENT
BEGIN:VEVENT
DTSTART;VALUE=DATE:20260930
DTEND;VALUE=DATE:20261001
DTSTAMP:20260421T110506
CREATED:20251004T095407Z
LAST-MODIFIED:20251004T095407Z
UID:2756-1790726400-1790812799@neuscharrel.de
SUMMARY:Vereinsmeisterschaft Schützenverein
DESCRIPTION:
URL:https://neuscharrel.de/event/vereinsmeisterschaft-schuetzenverein-6/
END:VEVENT
END:VCALENDAR